BEGIN:VCALENDAR
VERSION:2.0
PRODID:-//The Resort At Summerlin - ECPv6.15.20//NONSGML v1.0//EN
CALSCALE:GREGORIAN
METHOD:PUBLISH
X-WR-CALNAME:The Resort At Summerlin
X-ORIGINAL-URL:https://theresortatsummerlin.com
X-WR-CALDESC:Events for The Resort At Summerlin
REFRESH-INTERVAL;VALUE=DURATION:PT1H
X-Robots-Tag:noindex
X-PUBLISHED-TTL:PT1H
BEGIN:VTIMEZONE
TZID:America/Los_Angeles
BEGIN:DAYLIGHT
TZOFFSETFROM:-0800
TZOFFSETTO:-0700
TZNAME:PDT
DTSTART:20250309T100000
END:DAYLIGHT
BEGIN:STANDARD
TZOFFSETFROM:-0700
TZOFFSETTO:-0800
TZNAME:PST
DTSTART:20251102T090000
END:STANDARD
BEGIN:DAYLIGHT
TZOFFSETFROM:-0800
TZOFFSETTO:-0700
TZNAME:PDT
DTSTART:20260308T100000
END:DAYLIGHT
BEGIN:STANDARD
TZOFFSETFROM:-0700
TZOFFSETTO:-0800
TZNAME:PST
DTSTART:20261101T090000
END:STANDARD
BEGIN:DAYLIGHT
TZOFFSETFROM:-0800
TZOFFSETTO:-0700
TZNAME:PDT
DTSTART:20270314T100000
END:DAYLIGHT
BEGIN:STANDARD
TZOFFSETFROM:-0700
TZOFFSETTO:-0800
TZNAME:PST
DTSTART:20271107T090000
END:STANDARD
END:VTIMEZONE
BEGIN:VEVENT
DTSTART;TZID=America/Los_Angeles:20260421T080000
DTEND;TZID=America/Los_Angeles:20260421T220000
DTSTAMP:20260419T055657
CREATED:20260324T184750Z
LAST-MODIFIED:20260326T135054Z
UID:10000285-1776758400-1776808800@theresortatsummerlin.com
SUMMARY:BOGO Free Buffet
DESCRIPTION:Market Place Buffet Buy One\, Get One FREE or $25 off of $50 at any Outlet \nMust earn 100 same-day points & swipe at the kiosk for voucher to receive promotion.\n\nBuy One and Get One Free Buffet OR Get 50% Off One Buffet all day\nServed 11 am – 2 pm and 3 pm – 8 pm\nOR\n$25 off of $50 at any outlet\n\nDiscount is taken off the full dinner buffet price of $35.99 and the full lunch buffet price of $25.99. Children 10 and under $17.99.
URL:https://theresortatsummerlin.com/las-vegas-deals-events/bogo-free-buffet/
LOCATION:Market Place Buffet
CATEGORIES:Dining Specials & Events
ATTACH;FMTTYPE=image/jpeg:https://theresortatsummerlin.com/wp-content/uploads/2026/03/6252_Apr26_MPBuffet_BOGO_600x400.jpg
END:VEVENT
BEGIN:VEVENT
DTSTART;TZID=America/Los_Angeles:20260510T100000
DTEND;TZID=America/Los_Angeles:20260510T200000
DTSTAMP:20260419T055657
CREATED:20260414T141733Z
LAST-MODIFIED:20260414T141733Z
UID:10000318-1778407200-1778443200@theresortatsummerlin.com
SUMMARY:Mother's Day Buffet
DESCRIPTION:Enjoy a Special Mother’s Day Buffet
URL:https://theresortatsummerlin.com/las-vegas-deals-events/mothers-day-buffet/
LOCATION:Market Place Buffet
CATEGORIES:Dining Specials & Events
ATTACH;FMTTYPE=image/jpeg:https://theresortatsummerlin.com/wp-content/uploads/2026/04/6290_May26_MPBuffet_MothersDay_600x400.jpg
END:VEVENT
BEGIN:VEVENT
DTSTART;TZID=America/Los_Angeles:20261231T080000
DTEND;TZID=America/Los_Angeles:20261231T170000
DTSTAMP:20260419T055657
CREATED:20260324T221507Z
LAST-MODIFIED:20260414T140333Z
UID:10000287-1798704000-1798736400@theresortatsummerlin.com
SUMMARY:Seafood Night
DESCRIPTION:Enjoy a special Seafood Buffet on Fridays at Market Place Buffet \nAdults: $55.99\nKids 10 and under: $26.99
URL:https://theresortatsummerlin.com/las-vegas-deals-events/seafood-night/
LOCATION:Market Place Buffet
CATEGORIES:Dining Specials & Events
ATTACH;FMTTYPE=image/jpeg:https://theresortatsummerlin.com/wp-content/uploads/2026/03/seafood-buffet-las-vegas.jpg
END:VEVENT
END:VCALENDAR